BEGIN:VCALENDAR
VERSION:2.0
PRODID:-//Elegancija.lt - ECPv6.12.0.1//NONSGML v1.0//EN
CALSCALE:GREGORIAN
METHOD:PUBLISH
X-WR-CALNAME:Elegancija.lt
X-ORIGINAL-URL:https://elegancija.lt
X-WR-CALDESC:Elegancija.lt renginiai
REFRESH-INTERVAL;VALUE=DURATION:PT1H
X-Robots-Tag:noindex
X-PUBLISHED-TTL:PT1H
BEGIN:VTIMEZONE
TZID:UTC
BEGIN:STANDARD
TZOFFSETFROM:+0000
TZOFFSETTO:+0000
TZNAME:UTC
DTSTART:20190101T000000
END:STANDARD
END:VTIMEZONE
BEGIN:VEVENT
DTSTART;VALUE=DATE:20190524
DTEND;VALUE=DATE:20190527
DTSTAMP:20260423T100642
CREATED:20190504T070456Z
LAST-MODIFIED:20190504T070456Z
UID:7259-1558656000-1558915199@elegancija.lt
SUMMARY:Festivalis „Sportas visiems 2019“
DESCRIPTION:
URL:https://elegancija.lt/renginys/festivalis-sportas-visiems-2019/
LOCATION:Palanga\, Palanga
END:VEVENT
BEGIN:VEVENT
DTSTART;VALUE=DATE:20190525
DTEND;VALUE=DATE:20190527
DTSTAMP:20260423T100642
CREATED:20190504T070622Z
LAST-MODIFIED:20190504T070622Z
UID:7261-1558742400-1558915199@elegancija.lt
SUMMARY:Gintarinis savaitgalis
DESCRIPTION:
URL:https://elegancija.lt/renginys/gintarinis-savaitgalis-2/
LOCATION:Palanga\, Palanga
END:VEVENT
END:VCALENDAR